BEGIN:VCALENDAR
VERSION:2.0
PRODID:Events Booking
BEGIN:VEVENT
UID:69e6de7388739
SUMMARY:Performing Arts Summer Camp 2026 — Buffalo Grove\, IL
DESCRIPTION:Bravo Theater's Performing Arts Summer Camp 2026 is a premier k
 ids summer camp near Chicago\, located in Buffalo Grove\, IL — just minu
 tes from Arlington Heights\, Wheeling\, Deerfield\, Vernon Hills\, and the
  greater Chicagoland area. Professional instructors guide children ages 5
 –17 through acting\, vocal training\, choreography\, and fine arts in a 
 warm\, supportive atmosphere.
LOCATION:145 W Dundee Rd\, Buffalo Grove\, IL 60089\, USA
DTSTART:20260629T050000Z
DTEND:20260731T050000Z
DTSTAMP:20260225T024859Z
ORGANIZER;CN=Bravo Theater:MAILTO:support@bravotheater.com
GEO:42.138197;-87.961777
X-APPLE-STRUCTURED-LOCATION;VALUE=URI;X-ADDRESS=145 W Dundee Rd\, Buffalo G
 rove\, IL 60089\, USA;X-APPLE-RADIUS=72;X-TITLE=Bravo Theater:42.138197;-8
 7.961777
END:VEVENT
END:VCALENDAR