BEGIN:VCALENDAR
VERSION:2.0
PRODID:Events Booking
BEGIN:VEVENT
UID:69e71ba2987c4
SUMMARY:Летний Театральный Лагерь 2026 — Бафф
 ало Гроув\, Иллинойс
DESCRIPTION:Летний Театральный Лагерь 2026 от те
 атральной студии «Браво» — лучший летни
 й лагерь рядом с Чикаго\, расположенный в
  Баффало Гроув\, Иллинойс\, в нескольких м
 инутах от Арлингтон-Хайтс\, Уилинг\, Дирф
 илд\, Вернон-Хиллс и всего района Чикагол
 енд. Профессиональные педагоги работают
  с детьми 5–17 лет в тёплой\, дружеской атм
 осфере\, раскрывая таланты каждого ребён
 ка.
LOCATION:145 W Dundee Rd\, Buffalo Grove\, IL 60089\, USA
DTSTART:20260629T050000Z
DTEND:20260731T050000Z
DTSTAMP:20260225T024859Z
ORGANIZER;CN=Bravo Theater:MAILTO:support@bravotheater.com
GEO:42.138197;-87.961777
X-APPLE-STRUCTURED-LOCATION;VALUE=URI;X-ADDRESS=145 W Dundee Rd\, Buffalo G
 rove\, IL 60089\, USA;X-APPLE-RADIUS=72;X-TITLE=Bravo Theater:42.138197;-8
 7.961777
END:VEVENT
END:VCALENDAR